BEGIN:VCALENDAR
VERSION:2.0
PRODID:-//Park Cities Baptist Church - ECPv6.15.20//NONSGML v1.0//EN
CALSCALE:GREGORIAN
METHOD:PUBLISH
X-WR-CALNAME:Park Cities Baptist Church
X-ORIGINAL-URL:https://pcbc.org/es/
X-WR-CALDESC:Eventos para Park Cities Baptist Church
REFRESH-INTERVAL;VALUE=DURATION:PT1H
X-Robots-Tag:noindex
X-PUBLISHED-TTL:PT1H
BEGIN:VTIMEZONE
TZID:America/Chicago
BEGIN:DAYLIGHT
TZOFFSETFROM:-0600
TZOFFSETTO:-0500
TZNAME:CDT
DTSTART:20250309T080000
END:DAYLIGHT
BEGIN:STANDARD
TZOFFSETFROM:-0500
TZOFFSETTO:-0600
TZNAME:CST
DTSTART:20251102T070000
END:STANDARD
BEGIN:DAYLIGHT
TZOFFSETFROM:-0600
TZOFFSETTO:-0500
TZNAME:CDT
DTSTART:20260308T080000
END:DAYLIGHT
BEGIN:STANDARD
TZOFFSETFROM:-0500
TZOFFSETTO:-0600
TZNAME:CST
DTSTART:20261101T070000
END:STANDARD
BEGIN:DAYLIGHT
TZOFFSETFROM:-0600
TZOFFSETTO:-0500
TZNAME:CDT
DTSTART:20270314T080000
END:DAYLIGHT
BEGIN:STANDARD
TZOFFSETFROM:-0500
TZOFFSETTO:-0600
TZNAME:CST
DTSTART:20271107T070000
END:STANDARD
END:VTIMEZONE
BEGIN:VEVENT
DTSTART;VALUE=DATE:20260216
DTEND;VALUE=DATE:20260527
DTSTAMP:20260421T053526
CREATED:20251212T005107Z
LAST-MODIFIED:20260227T162809Z
UID:10013216-1771200000-1779839999@pcbc.org
SUMMARY:Campamentos de Verano
DESCRIPTION:¡Vive un verano increíble con Park Cities Baptist Church en nuestros Campamentos de Verano 2026! ☀️ \nOfrecemos campamentos semanales para niños desde los 3 años hasta 7º grado\, con actividades como deportes\, arte\, danza\, Lego ¡y mucho más! ¡Estamos súper emocionados de verte este verano! \n¡Inscripciones abiertas! \nInscripción a Campamentos Descarga el Catalago de Campamentos \nVer Campamentos Semanales
URL:https://pcbc.org/es/event/campamentos/
CATEGORIES:Deportes,Niños
ATTACH;FMTTYPE=image/jpeg:https://pcbc.org/wp-content/uploads/2025/12/Campamentos-de-Verano.jpg
ORGANIZER;CN="Daniel Brooke":MAILTO:dbrooke@pcbc.org
END:VEVENT
BEGIN:VEVENT
DTSTART;VALUE=DATE:20260422
DTEND;VALUE=DATE:20260426
DTSTAMP:20260421T053526
CREATED:20251119T194056Z
LAST-MODIFIED:20260213T213134Z
UID:10013178-1776816000-1777161599@pcbc.org
SUMMARY:Viaje Misionero Sur de Texas de Primavera
DESCRIPTION:Viaje Misionero Sur de Texas de Primavera\nEn el sur de Texas\, colaboramos con nuestros distintos socios misioneros en el Valle del Río Grande para bendecir a la comunidad. Al unirte a uno de nuestros viajes misioneros STX\, podrás participar en actividades como construir camas para familias necesitadas\, organizar noches de BSM para estudiantes universitarios\, servir en el banco local de alimentos\, orar y adorar junto a creyentes en el RGV\, y compartir momentos de juego con los niños. \nFecha: Abril 22-25 \nLíderes: Dennis Dronzek\, Philip Price\, y Cinnamon Thompson \nRegístrate
URL:https://pcbc.org/es/event/iaje-misionero-sur-de-texas-de-primavera/
CATEGORIES:Misiones
ATTACH;FMTTYPE=image/jpeg:https://pcbc.org/wp-content/uploads/2025/11/VM-SurTexas-Primavera.jpg
ORGANIZER;CN="Elizabeth Knight":MAILTO:ewknight@pcbc.org
END:VEVENT
BEGIN:VEVENT
DTSTART;TZID=America/Chicago:20260425T093000
DTEND;TZID=America/Chicago:20260425T110000
DTSTAMP:20260421T053526
CREATED:20260216T195332Z
LAST-MODIFIED:20260415T142814Z
UID:10013180-1777109400-1777114800@pcbc.org
SUMMARY:Desayuno y Estudio para Hombres
DESCRIPTION: Ven a disfrutar un buen desayuno\, buena conversación y tiempo de crecimiento espiritual junto a otros hombres de fe en nuestro Desayuno y Estudio Bíblico para Hombres. \nUna vez al mes a las 9:30am \nPara más información contacta al Pastor Rolando: raguirre@pcbc.org
URL:https://pcbc.org/es/event/desayuno-y-estudio-para-hombres-2/
CATEGORIES:Crece,Grupos de Conexión,Hombres
ATTACH;FMTTYPE=image/jpeg:https://pcbc.org/wp-content/uploads/2026/02/Desayuno-Hombres.jpg
END:VEVENT
BEGIN:VEVENT
DTSTART;TZID=America/Chicago:20260425T100000
DTEND;TZID=America/Chicago:20260425T113000
DTSTAMP:20260421T053526
CREATED:20260112T202026Z
LAST-MODIFIED:20260415T142033Z
UID:10013067-1777111200-1777116600@pcbc.org
SUMMARY:JU COFFEE
DESCRIPTION:JU COFFEE: Conectando vidas y formando generaciones con propósito para Jóvenes Universitarios \nQueremos que nuestra conexión como jóvenes genere un cambio real en nuestra generación\, y que el tiempo nunca sea una excusa para dejar de crear este lazo. Este espacio no se trata sólo de nutrir el espíritu\, sino también de reír\, compartir y disfrutar quiénes somos como jóvenes\, mientras conectamos con el propósito de Dios para nuestras vidas. \n MÁS INFORMACIÓN CON MAICO: mlramos@pcbc.org \nDesayuno y Estudio a las 10:00am: \n\n Enero 24\nAbril 25 \nJunio 27
URL:https://pcbc.org/es/event/ju-coffee-3/
CATEGORIES:Crece
ATTACH;FMTTYPE=image/jpeg:https://pcbc.org/wp-content/uploads/2026/01/JU-Coffee-copy.jpg
END:VEVENT
BEGIN:VEVENT
DTSTART;TZID=America/Chicago:20260426T123000
DTEND;TZID=America/Chicago:20260426T143000
DTSTAMP:20260421T053526
CREATED:20260417T171615Z
LAST-MODIFIED:20260417T171615Z
UID:10013617-1777206600-1777213800@pcbc.org
SUMMARY:Lanzamiento de Libro
DESCRIPTION:¡Nuevo lanzamiento! \nNos alegra anunciar el libro La Obra del Espíritu Santo del Pastor Kevin Harris. \n🗓 Disponible el domingo 26⏰ Antes y después del servicio \n¡No pierdas la oportunidad de adquirirlo y seguir creciendo en tu fe! 🙌
URL:https://pcbc.org/es/event/lanzamiento-de-libro/
LOCATION:Park Cities Baptist Church\, 3933 Northwest Parkway\, Dallas\, TX\, 75225\, United States
ATTACH;FMTTYPE=image/jpeg:https://pcbc.org/wp-content/uploads/2026/04/Lanzamiento-libro.jpeg
END:VEVENT
BEGIN:VEVENT
DTSTART;TZID=America/Chicago:20260426T141500
DTEND;TZID=America/Chicago:20260426T160000
DTSTAMP:20260421T053526
CREATED:20260128T172951Z
LAST-MODIFIED:20260415T141635Z
UID:10013124-1777212900-1777219200@pcbc.org
SUMMARY:Taller para Matrimonios
DESCRIPTION:El matrimonio no fue diseñado solo para resistir las temporadas difíciles\, sino para crecer\, sanar y amar de una manera más profunda e intencional. \nTe invitamos a nuestro Taller para Parejas\, un espacio especial para fortalecer tu relación\, reconectar y aprender herramientas prácticas que les ayuden a amar mejor cada día. \n🗓 26 de abril⏰ 2:15 PM📍 PCBC – Salón Loft \nNo importa en qué etapa se encuentren\, este taller es para ustedes. Inviten a otras parejas y acompañennos en esta tarde que puede marcar una nueva etapa en su relación. \n\n\n\nInscríbete
URL:https://pcbc.org/es/event/cena-y-conferencia-para-matrimonios/
LOCATION:Park Cities Baptist Church\, 3933 Northwest Parkway\, Dallas\, TX\, 75225\, United States
CATEGORIES:Matrimonio
ATTACH;FMTTYPE=image/jpeg:https://pcbc.org/wp-content/uploads/2026/01/Taller-matrimonios.jpg
ORGANIZER;CN="Alma Escobar":MAILTO:aescobar@pcbc.org
END:VEVENT
BEGIN:VEVENT
DTSTART;TZID=America/Chicago:20260429T173000
DTEND;TZID=America/Chicago:20260429T193000
DTSTAMP:20260421T053526
CREATED:20260304T175807Z
LAST-MODIFIED:20260407T190447Z
UID:10013570-1777483800-1777491000@pcbc.org
SUMMARY:Cena y Capacitación de EBV
DESCRIPTION:Acompáñanos a nuestra Cena de Inicio y Capacitación de VBS mientras nos preparamos para una increíble Escuela Bíblica de Vacaciones. Esta es una capacitación para todos los que estarán sirviendo en VBS este año. Si aún estás considerando servir\, ven a la capacitación y encuentra un lugar que sea adecuado para ti. \nCuidado de Niños: Bebés hasta 5to grado \nRegístrate \nLocación: Great Hall
URL:https://pcbc.org/es/event/cena-y-capacitacion-de-ebv/
LOCATION:Park Cities Baptist Church\, 3933 Northwest Parkway\, Dallas\, TX\, 75225\, United States
CATEGORIES:Niños
ATTACH;FMTTYPE=image/jpeg:https://pcbc.org/wp-content/uploads/2026/03/Cena-y-capacitacion-EBV.jpg
ORGANIZER;CN="Rebekah Mompremier":MAILTO:rmompremier@pcbc.org
END:VEVENT
BEGIN:VEVENT
DTSTART;VALUE=DATE:20260501
DTEND;VALUE=DATE:20260504
DTSTAMP:20260421T053526
CREATED:20260119T162044Z
LAST-MODIFIED:20260408T155737Z
UID:10013572-1777593600-1777852799@pcbc.org
SUMMARY:Retiro Adultos Solteros
DESCRIPTION:Este mes nos uniremos a Fellowship Dallas y Grace Bible Church en un retiro de Adultos Solteros en Hidden Acres Retreat Center. Este retiro\, que comienza el viernes por la noche y termina el domingo por la tarde\, estará lleno de adoración\, tiempo en la Palabra y muchas oportunidades para construir amistades a través de actividades divertidas. ¡Estamos emocionados por ver lo que Dios hará en tu corazón este fin de semana! \nRegístrate
URL:https://pcbc.org/es/event/retiro-adultos-solteros/
LOCATION:Hidden Acres Retreat Center\, 11350 Hidden Acres Ln\, Kaufman\, TX\, 75142
CATEGORIES:Jóvenes Adultos
ATTACH;FMTTYPE=image/jpeg:https://pcbc.org/wp-content/uploads/2026/01/Retiro-adultos-solters.jpg
ORGANIZER;CN="Caleb Rhoades":MAILTO:crhoades@pcbc.org
END:VEVENT
BEGIN:VEVENT
DTSTART;TZID=America/Chicago:20260503T093000
DTEND;TZID=America/Chicago:20260503T140000
DTSTAMP:20260421T053526
CREATED:20260223T230224Z
LAST-MODIFIED:20260320T164658Z
UID:10013276-1777800600-1777816800@pcbc.org
SUMMARY:Celebración para Graduados
DESCRIPTION:Domingo de GraduadosNuestro Domingo de Graduados anual es uno de los mejores domingos del año. Los graduados serán celebrados por toda la familia PCBC durante los servicios de adoración. También disfrutaremos de un tiempo especial en el Commons entre servicios\, donde como iglesia nos reuniremos para orar por la generación de graduados. \nBanquete de GraduadosEste almuerzo especial es para los graduados y sus familias\, con el fin de celebrar todo lo que han logrado en los últimos dieciocho años y brindar ánimo para la nueva etapa que comienza. \nLocación: Commons y Fellowship Hall \nRegístrate
URL:https://pcbc.org/es/event/celebracion-para-graduados/
LOCATION:Park Cities Baptist Church\, 3933 Northwest Parkway\, Dallas\, TX\, 75225\, United States
CATEGORIES:Estudiantes
ATTACH;FMTTYPE=image/jpeg:https://pcbc.org/wp-content/uploads/2026/02/Celebracion-Graduados.jpg
ORGANIZER;CN="Ashley Walters":MAILTO:awalters@pcbc.org
END:VEVENT
BEGIN:VEVENT
DTSTART;TZID=America/Chicago:20260516T100000
DTEND;TZID=America/Chicago:20260516T120000
DTSTAMP:20260421T053526
CREATED:20260415T142544Z
LAST-MODIFIED:20260415T142545Z
UID:10013601-1778925600-1778932800@pcbc.org
SUMMARY:Evento para Mujeres
DESCRIPTION:Te invitamos a un evento especial diseñado para recordarnos una verdad profunda: Jesús está a la puerta y llama. \nSerá una mañana para detenernos\, reflexionar y reconocer esas áreas de nuestra vida que aún necesitan abrirse a Él. A través de un ambiente intencional y un mensaje lleno de esperanza\, exploraremos decisiones espirituales que marcan nuestra relación con Dios; como perdonar\, confiar\, soltar el control y vivir en obediencia. \nEstamos a las puertas de una nueva temporada.La pregunta es: ¿responderemos cuando Él llama? \nSábado 16 de mayo \n10:00am \nPCBC salón Great Hall
URL:https://pcbc.org/es/event/evento-para-mujeres/
CATEGORIES:Mujeres
ATTACH;FMTTYPE=image/jpeg:https://pcbc.org/wp-content/uploads/2026/04/Elegidas-Taller.jpg
END:VEVENT
BEGIN:VEVENT
DTSTART;VALUE=DATE:20260526
DTEND;VALUE=DATE:20260531
DTSTAMP:20260421T053526
CREATED:20260210T174329Z
LAST-MODIFIED:20260213T175443Z
UID:10013175-1779753600-1780185599@pcbc.org
SUMMARY:Campamento "Thee Camp"
DESCRIPTION:Mayo 26-30\nLatham Springs\, Texas \n¡Thee Camp está de regreso y mejor que nunca! Invitamos a todos los estudiantes que actualmente cursan de 6º a 12º grado a acompañarnos en una semana increíble donde adoraremos a Dios juntos\, viviremos en comunidad centrada en Cristo\, creceremos más cerca de Jesús y — por supuesto — ¡nos divertiremos muchísimo! Thee Camp es una tradición de muchos años en PCBC\, y estamos expectantes por lo que Dios hará en la vida de nuestros estudiantes durante esa semana. \nEste verano\, el campamento se llevará a cabo en Latham Springs\, en Aquilla\, Texas\, aproximadamente a una hora y media al sur de Dallas (cerca de Waco). \nRegístrate en el enlace abajo — ¡estamos emocionados por verte allí! \nRegístrate
URL:https://pcbc.org/es/event/campamento-thee-camp/
LOCATION:Latham Springs\, 134 Private Rd 223\, Aquilla\, TX\, 76622\, United States
ATTACH;FMTTYPE=image/jpeg:https://pcbc.org/wp-content/uploads/2026/02/TheeCamp26.jpg
ORGANIZER;CN="Ashley Walters":MAILTO:awalters@pcbc.org
END:VEVENT
BEGIN:VEVENT
DTSTART;TZID=America/Chicago:20260601T180000
DTEND;TZID=America/Chicago:20260601T203000
DTSTAMP:20260421T053526
CREATED:20260408T183836Z
LAST-MODIFIED:20260408T184723Z
UID:10013577-1780336800-1780345800@pcbc.org
SUMMARY:Escuela Bíblica de Vacaciones(EBV)
DESCRIPTION:La EBV es para niños(as) que ingresarán a kínder en agosto (es decir\, que ya terminaron Pre-Kínder) hasta quienes acaban de completar 5.º grado. \nRegistra a tu hijo(a) según el grado que cursó durante este año escolar (2025–2026). También estaremos ofreciendo pláticas y talleres para padres mientras tus hijos disfrutan de la EBV. \nSi vas a servir como VOLUNTARIO y tus hijos aún son muy pequeños para participar\, ¡no te preocupes! También tenemos cuidado y programas para ellos. Por favor\, inscríbelos también. \n¡No te pierdas esta oportunidad de aprender a brillar con la luz de Dios en el mundo! \nRegístrate hoy \n  \nLocación: PCBC- Edificio Great Hall
URL:https://pcbc.org/es/event/escuela/2026-06-01/
LOCATION:Park Cities Baptist Church\, 3933 Northwest Parkway\, Dallas\, TX\, 75225\, United States
CATEGORIES:Niños,Preescolar
ATTACH;FMTTYPE=image/jpeg:https://pcbc.org/wp-content/uploads/2026/02/SPA-VBS2026-1.jpg
ORGANIZER;CN="Alma Escobar":MAILTO:aescobar@pcbc.org
END:VEVENT
BEGIN:VEVENT
DTSTART;VALUE=DATE:20260610
DTEND;VALUE=DATE:20260614
DTSTAMP:20260421T053526
CREATED:20251119T194329Z
LAST-MODIFIED:20260213T210905Z
UID:10013177-1781049600-1781395199@pcbc.org
SUMMARY:Viaje Misionero Sur de Texas- Matrimonios y Familias
DESCRIPTION:Viaje Misionero Sur de Texas- Adultos y Familias \nEn el sur de Texas\, colaboramos con nuestros diversos socios misioneros en el Valle del Río Grande para bendecir a la comunidad. Al unirte a uno de nuestros viajes misioneros STX\, participarás en actividades como construir camas para familias necesitadas\, organizar noches de BSM para estudiantes universitarios\, servir en el banco local de alimentos\, orar y adorar junto a creyentes en el RGV\, y compartir momentos de juego con los niños. \nFecha: Junio 10-13 \nLíderes: Matt y Jana Shuford \nRegístrate
URL:https://pcbc.org/es/event/viaje-misionero-sur-de-texas-adultos-y-familias/
CATEGORIES:Misiones
ATTACH;FMTTYPE=image/jpeg:https://pcbc.org/wp-content/uploads/2025/11/VM-SurTexas-familias.jpg
ORGANIZER;CN="Elizabeth Knight":MAILTO:ewknight@pcbc.org
END:VEVENT
BEGIN:VEVENT
DTSTART;TZID=America/Chicago:20260615T090000
DTEND;TZID=America/Chicago:20260615T150000
DTSTAMP:20260421T053526
CREATED:20260127T180233Z
LAST-MODIFIED:20260416T144436Z
UID:10013603-1781514000-1781535600@pcbc.org
SUMMARY:Campamento para Niños
DESCRIPTION:Este campamento es para niños que han completado de 1.º a 5.º grado\, con el propósito de darles la oportunidad de servir a otros en nuestra comunidad. Nos estamos asociando con organizaciones de la ciudad\, como Buckner\, For the Nations\, Brother Bill’s\, entre otras\, para enseñarles a los niños el corazón del servicio. \nCada día realizarán una excursión a una organización diferente\, donde aprenderán sobre su labor y participarán en un proyecto de servicio en el lugar. El campamento también incluirá devocionales\, juegos\, actividades ¡y almuerzo! \nLocación: Great Hall \nRegístrate
URL:https://pcbc.org/es/event/campamento-para-ninos/2026-06-15/
CATEGORIES:Misión,Niños
ATTACH;FMTTYPE=image/jpeg:https://pcbc.org/wp-content/uploads/2026/01/Kids-mission-camp.jpg
ORGANIZER;CN="Rebekah Mompremier":MAILTO:rmompremier@pcbc.org
END:VEVENT
BEGIN:VEVENT
DTSTART;VALUE=DATE:20260710
DTEND;VALUE=DATE:20260719
DTSTAMP:20260421T053526
CREATED:20251013T132732Z
LAST-MODIFIED:20260212T214653Z
UID:10011742-1783641600-1784419199@pcbc.org
SUMMARY:Viaje Misionero de Estudiantes a Reino Unido
DESCRIPTION:Fechas: Julio 10-18\, 2026 \nRegistro hasta: Febrero 1\, 2026 \nFecha límite final: Abril 1\, 2026 \n** Cupo limitado a 16 estudiantes \nEste próximo año\, estamos emocionados de ofrecer a los estudiantes de PCBC una oportunidad increíble para servir\, crecer y compartir su fe en misión en Tees Valley\, Reino Unido. \nNuestro equipo se asociará con iglesias y ministerios locales para involucrar a las comunidades a través de diversas actividades de alcance diseñadas para construir relaciones y apuntar a las personas hacia Cristo. Los estudiantes participarán en: \n⚽ Deportes y juegos después de la escuela — incluyendo fútbol y actividades clásicas tipo campamento\, con un mensaje del Evangelio compartido en el “medio tiempo”.🏫 Asambleas escolares — los estudiantes ayudarán a liderar programas y a crear conexiones con jóvenes locales.🎶 Servicios de adoración — oportunidades para servir\, adorar y compartir testimonios durante la semana.🗣️ Evangelismo en las calles y encuestas — conectando con los locales en conversaciones reales sobre la fe. \nEste viaje es una oportunidad para ser parte de la misión de Dios alrededor del mundo\, crecer espiritualmente y dar un paso de fe en servicio. \n📋 Detalles Importantes:\n\nCosto del viaje:\n\n\n\n$2\,900 (para febrero 1)\n$3\,100 (después de febrero 1)\n\n\n\n\nEl costo incluye: pasaje aéreo\, alojamiento\, comidas\, transporte en el Reino Unido y seguro de salud.\nFecha límite de registro anticipado: 1 de febrero de 2026\nFecha límite de registro final: 1 de abril de 2026\nCupos disponibles: 16 estudiantes\nLíder: Taylor Lowery\n\nSi estás listo para vivir una experiencia que cambiará tu vida y tener un impacto global para Cristo\, te invitamos a orar y considerar unirte al equipo de misión estudiantil en Tees Valley. \nRegístrate
URL:https://pcbc.org/es/event/viaje-misionero-de-estudiantes-a-reino-unido/
CATEGORIES:Misiones
ATTACH;FMTTYPE=image/jpeg:https://pcbc.org/wp-content/uploads/2025/10/Viaje-misionero-estudiantes-UK.jpg
ORGANIZER;CN="Taylor Lowrey":MAILTO:tlowrey@pcbc.org
END:VEVENT
BEGIN:VEVENT
DTSTART;VALUE=DATE:20260710
DTEND;VALUE=DATE:20260719
DTSTAMP:20260421T053526
CREATED:20260107T201204Z
LAST-MODIFIED:20260213T210315Z
UID:10013176-1783641600-1784419199@pcbc.org
SUMMARY:Viaje Misionero al Caribe- Escuela Bíblica de Vacaciones
DESCRIPTION:Este equipo de 10 personas se unirá a una iglesia local con muchos años de trayectoria para ofrecer una experiencia de Escuela Bíblica de Vacaciones (EBV) a cientos de niños. Durante más de 25 años\, PCBC ha apoyado a esta iglesia\, y a través de este ministerio muchos niños han llegado a conocer a Cristo. \nLos integrantes del equipo animarán y respaldarán a la iglesia local mientras sirven a su comunidad por medio de una EBV de gran alcance. \nEl equipo será liderado por Susan Switch\, quien ha guiado fielmente este viaje por muchos años y aporta una amplia experiencia para asegurar una experiencia misionera significativa y bien acompañada. \nTamaño del equipo: 10 personas \nLíder: Susan Switch \nCosto Estimado: $2\,500 (incluye todos los gastos) \nFecha límite de inscripción: Junio 1 \nRegístrate
URL:https://pcbc.org/es/event/viaje-misionero-al-caribe-escuela-biblica-de-vacaciones/
CATEGORIES:Misiones
ATTACH;FMTTYPE=image/jpeg:https://pcbc.org/wp-content/uploads/2026/01/VM-CaribeEBV.jpg
ORGANIZER;CN="Kelly Hamilton":MAILTO:kahamilton@pcbc.org
END:VEVENT
BEGIN:VEVENT
DTSTART;VALUE=DATE:20260711
DTEND;VALUE=DATE:20260719
DTSTAMP:20260421T053526
CREATED:20251013T133701Z
LAST-MODIFIED:20260212T214636Z
UID:10011743-1783728000-1784419199@pcbc.org
SUMMARY:Viaje Misionero a Guatemala
DESCRIPTION:Fechas: Julio 11–18\, 2026 \nCosto: $2\,050 (pasaje aéreo\, alojamiento\, comidas\, transporte en el Reino Unido y seguro de salud) \n\nFecha límite de registro anticipado: Febrero 1\nFecha límite de registro final: Abril 1\n\nPCBC is heading back to Guatemala for a week of hands-on ministry\, spiritual growth\, and community transformation. Whether you’re a student ready to work hard and serve boldly\, or an adult passionate about helping others through specialized ministry\, this trip is an incredible opportunity to be the hands and feet of Jesus. PCBC will send TWO mission teams to Guatemala in July 2026 — an Adult Team and a Student Team — each engaging in hands-on ministry\, cultural experiences\, and impactful serving opportunities! \n\nEquipo de Adultos\nTamaño del equipo: 12–15 participantesLíder del equipo: Penny Peek \nÁreas del ministerio: \n\nClínicas médicas y dentales\nMinisterio de mujeres\nCapacitación de maestros\n\nActividades adicionales: \n\n\n\nTiempo con los Treasures\nCaminatas de oración\nServir almuerzos\n\n\n\nRegístrate para el Equipo de Adultos \n  \nEquipo de Estudiantes \nTamaño del equipo: 25 participantesLíder del equipo: Thomas Dennis \nProyectos del ministerio: \n\nConstruir dos casas\nCompletar un proyecto combinado\n\nActividades adicionales: \n\n\n\nTiempo con los Treasures\nCaminatas de oración\nServir almuerzos\n\n\n\nRegister for Student Team
URL:https://pcbc.org/es/event/viaje-misionero-a-guatemala/
CATEGORIES:Estudiantes,Misiones
ATTACH;FMTTYPE=image/jpeg:https://pcbc.org/wp-content/uploads/2025/10/VM-Guatemala.jpg
END:VEVENT
BEGIN:VEVENT
DTSTART;VALUE=DATE:20260713
DTEND;VALUE=DATE:20260722
DTSTAMP:20260421T053526
CREATED:20260107T201000Z
LAST-MODIFIED:20260212T221212Z
UID:10013167-1783900800-1784678399@pcbc.org
SUMMARY:Park Cities Baptist Church Viaje a Perú
DESCRIPTION:¡Únete a Orphan Outreach para servir a los niños en Perú este julio! Se trata de un viaje misionero de nueve días a Cusco\, Perú. Este viaje incluye un recorrido de dos días por el Valle Sagrado\, un viaje en tren a Aguas Calientes y una visita al sitio arqueológico de Machu Picchu. Fecha límite de inscripción es 15 de enero \nCosto estimado terrestre: $2\,475 \nCosto estimado de vuelos: $1\,300 \nLíderes: Marti Copeland y Kelly Hamilton. \nllena la aplicación aquí \nmás información
URL:https://pcbc.org/es/event/park-cities-baptist-church-viaje-a-peru/
LOCATION:Cusco\, Peru
CATEGORIES:Misiones
ATTACH;FMTTYPE=image/jpeg:https://pcbc.org/wp-content/uploads/2026/01/VM-Peru.jpg
ORGANIZER;CN="Kelly Hamilton":MAILTO:kahamilton@pcbc.org
END:VEVENT
BEGIN:VEVENT
DTSTART;VALUE=DATE:20260916
DTEND;VALUE=DATE:20260920
DTSTAMP:20260421T053526
CREATED:20251119T194606Z
LAST-MODIFIED:20260212T221847Z
UID:10013168-1789516800-1789862399@pcbc.org
SUMMARY:Viaje Misionero Sur de Texas para Hombres
DESCRIPTION:Viaje Misionero Sur de Texas para Hombres\nSirve junto a nuestros socios misioneros en el Valle del Río Grande y ayuda a generar un impacto duradero en las comunidades cercanas. Este viaje misionero exclusivo para hombres ofrece una oportunidad única de conectarte y servir junto a otros hombres de PCBC\, participando en un servicio práctico y significativo en el sur de Texas. \nPCBC colabora con varios socios misioneros para bendecir a la comunidad del Valle del Río Grande (RGV). Al participar en este viaje\, realizarás actividades como construcción ligera\, armado de camas para familias\, organización de noches del BSM para estudiantes universitarios\, servicio en el banco de alimentos local\, y oración y adoración junto a creyentes en el RGV. \nFechas: Septiembre 16-19 \nTrip Leaders: Clint Williamson y Evan Clark \nRegístrate
URL:https://pcbc.org/es/event/viaje-misionero-sur-de-texas-para-hombres/
CATEGORIES:Hombres,Misiones
ATTACH;FMTTYPE=image/jpeg:https://pcbc.org/wp-content/uploads/2025/11/VM-SurTexasHombres.jpg
ORGANIZER;CN="Elizabeth Knight":MAILTO:ewknight@pcbc.org
END:VEVENT
BEGIN:VEVENT
DTSTART;VALUE=DATE:20261101
DTEND;VALUE=DATE:20261201
DTSTAMP:20260421T053526
CREATED:20251119T193428Z
LAST-MODIFIED:20260212T215053Z
UID:10013166-1793491200-1796083199@pcbc.org
SUMMARY:Viaje de Orientación Profesional con UTRGV BSM
DESCRIPTION:Viaje de Orientación Profesional con UTRGV BSM\nNuestro equipo se asociará con el BSM de UT/RGV para compartir con los estudiantes algunas de nuestras experiencias\, tanto los logros como los desafíos\, a lo largo de nuestra etapa universitaria y trayectoria profesional. Tendremos la oportunidad de interactuar con los estudiantes a través de visitas a clases\, reuniones de organizaciones estudiantiles\, mentorías individuales y eventos en el BSM\, mientras brindamos consejos prácticos y ánimo espiritual. \nLíder: John Thompson \nFechas: Inicios de Noviembre – fechas exactas pendientes \nRegístrate
URL:https://pcbc.org/es/event/viaje-de-orientacion-profesional-con-utrgv-bsm/
CATEGORIES:Misiones
ATTACH;FMTTYPE=image/jpeg:https://pcbc.org/wp-content/uploads/2025/11/PCBC_MissionTrips_CareerCoaching.jpg
ORGANIZER;CN="Elizabeth Knight":MAILTO:ewknight@pcbc.org
END:VEVENT
BEGIN:VEVENT
DTSTART;VALUE=DATE:20261104
DTEND;VALUE=DATE:20261108
DTSTAMP:20260421T053526
CREATED:20260107T201445Z
LAST-MODIFIED:20260212T213648Z
UID:10013165-1793750400-1794095999@pcbc.org
SUMMARY:Cumbre del Caribe
DESCRIPTION:La Cumbre del Caribe es una oportunidad única para reunirnos con cuatro pastores y sus esposas de nuestras iglesias socias a largo plazo\, con la esperanza de sumar un quinto socio también. El propósito principal de este viaje es animar\, apoyar y bendecir a estos fieles líderes ministeriales que han enfrentado grandes dificultades mientras sirven a sus comunidades. \nEsta cumbre está diseñada con intencionalidad y cuidado: los hombres del equipo dedicarán tiempo específico a animar y apoyar a los pastores\, mientras que las mujeres ministrarán a las esposas de los pastores.\nA través de la construcción de relaciones\, la oración y el compañerismo\, el equipo ofrecerá fortaleza y renovación a quienes entregan tanto de sí mismos a los demás. \nTamaño del Grupo: Máximo 10 personas \nLíderes: Kelly Hamilton y Rolando Aguirre \nCosto estimado: $2\,300 \nFecha límite de inscripción: Septiembre 1 \nRegístrate
URL:https://pcbc.org/es/event/cumbre-del-caribe/
CATEGORIES:Misiones
ATTACH;FMTTYPE=image/jpeg:https://pcbc.org/wp-content/uploads/2026/01/VM-Cumbre-caribe-1.jpg
ORGANIZER;CN="Kelly Hamilton":MAILTO:kahamilton@pcbc.org
END:VEVENT
END:VCALENDAR